BEGIN:VCALENDAR
VERSION:2.0
PRODID:icalendar-ruby
CALSCALE:GREGORIAN
X-WR-TIMEZONE:Europe/Helsinki
BEGIN:VTIMEZONE
TZID:Europe/Helsinki
BEGIN:DAYLIGHT
DTSTART:20260329T040000
TZOFFSETFROM:+0200
TZOFFSETTO:+0300
RRULE:FREQ=YEARLY;BYDAY=-1SU;BYMONTH=3
TZNAME:EEST
END:DAYLIGHT
BEGIN:STANDARD
DTSTART:20261025T030000
TZOFFSETFROM:+0300
TZOFFSETTO:+0200
RRULE:FREQ=YEARLY;BYDAY=-1SU;BYMONTH=10
TZNAME:EET
END:STANDARD
END:VTIMEZONE
BEGIN:VEVENT
DTSTAMP:20260422T184311
UID:raumabasket.myclub.fi-10639528
DTSTART;TZID=Europe/Helsinki:20260604T090000
DTEND;TZID=Europe/Helsinki:20260604T153000
DESCRIPTION:TVO:n Kesäkoris 2026 \nTVO ja Rauma basket ry järjestävät k
 esällä 2026 koripalloleirin 2008–2015 välillä syntyneille tytöille 
 ja pojille. Leiri on avoin kaikille koripallosta kiinnostuneille – myös
  niille\, joilla ei ole aiempaa kokemusta lajista. Leirin tiedot: \nAjanko
 hta: Torstai–perjantai 4.–5.6.2026 Paikka: Raumanmeren koulu sekä lä
 hialueiden liikuntapaikat\nHinta: 80 € Early bird -hinta 70 € (voimass
 a 30.4.2026 asti)\nLeirimaksu sisältää:  ohjatun toiminnan  lämpimän 
 lounaan  tapaturmavakuutuksen  TVO Kesäkoris 2026 -leiripaidan   Leirin s
 isältö: \nLeiri tarjoaa monipuoliset ja aktiiviset päivät koripallon p
 arissa. Leirillä on luvassa paljon liikettä\, toistoja ja onnistumisen k
 okemuksia.\nOhjelmaan sisältyy myös rentoa yhdessä tekemistä ja kesäi
 stä ulkoliikuntaa\, jotka täydentävät leiripäiviä.\nLeirin tavoittee
 na on:  tarjota osallistujille positiivisia liikuntakokemuksia  kehittää
  lasten koripallon perustaitoja laadukkaasti  tukea pelin ymmärtämistä 
 ja yhdessä pelaamista  kannustaa aktiivisuuteen\, yrittämiseen ja oppimi
 seen  vahvistaa liikunnan iloa ja rohkeutta osallistua  \nLeiripaidan koko
  pyydettään ilmoittautumisen yhteydessä – jos haluat tehdä muutoksen
  ilmoittautumisen jälkeen\, olethan meihin yhteydessä mahdollisimman pia
 n.\nAllergiat ja erityisruokavaliot: Pyydämme lähettämään tiedot mahd
 ollisista allergioista tai erityisruokavalioista sähköpostitse viimeist
 ään torstaina 28.5.2026 osoitteeseen: info@raumabasket.fi\nSaat tarkemma
 n infopaketin noin viikkoa ennen leiriä sähköpostitse.\nJos sinulla her
 ää kysyttävää ennen leiriä\, voit olla yhteydessä: info@raumabasket
 .fi\nNähdään kesäkuussa koriksen merkeissä! Terveisin\, TVO:n Kesäko
 ris-tiimi PERUUTUSEHDOT \nViimeistään 31.5.2026 tulleista peruutuksista 
 palautamme leirimaksun kokonaan\, lukuun ottamatta 15 euron käsittelymaks
 ua. 1.6.2026 tai myöhemmin tulleissa peruutuksissa maksuja ei palauteta k
 uin sairastapauksissa. \nJos leiriläinen ei osallistu leirille\, eikä ol
 e peruuttanut osallistumistaan peruutusehtojen mukaisesti\, peruutuksesta 
 veloitetaan peruutuskuluna 100 % leirin hinnasta. SAIRASTAPAUKSET \nViimei
 stään 3 vrk ennen leirin alkua tulleista peruutuksista palautamme 75 % l
 eirimaksusta lääkärintodistusta vastaan. Tämän jälkeen tulleista per
 uutuksista palautamme 50 % leirimaksusta lääkärintodistusta vastaan sil
 tä osin\, kun lapselta jää kokonaisia leiripäiviä väliin. Maksun pal
 autuksen edellytyksenä on lääkärintodistuksen toimittaminen. Lääkär
 intodistuksesta tulee käydä ilmi leirinaikainen este osallistumiselle.\n
 Osallistuminen perutaan aina kirjallisesti osoitteeseen info(at) raumabask
 et.fi. Leirimaksun maksamatta jättäminen ei tarkoita osallistumisen peru
 mista.\n\nhttps://raumabasket.myclub.fi/flow/events/10639528
LOCATION:Raumanmeren koulu\, Pyynpäänkatu 27\, 26100 Rauma
SEQUENCE:0
SUMMARY:Kesäleiri: TVO:n Kesäkoris 2026 -korisleiri
URL;VALUE=URI:https://raumabasket.myclub.fi/flow/events/10639528
END:VEVENT
END:VCALENDAR
